BEGIN:VCALENDAR
VERSION:2.0
PRODID:-//Sapperton Parish Council//Meeting Calendar//EN
CALSCALE:GREGORIAN
METHOD:PUBLISH
BEGIN:VEVENT
UID:71963-20260310@sappertonparishcouncil.gov.uk
DTSTAMP:20260420T151147Z
DTSTART;VALUE=DATE:20260310
DTEND;VALUE=DATE:20260311
SUMMARY:Council Meeting 10 March 2026 &#8211\\; Agenda
DESCRIPTION:Full Council Meeting\nView details: https://sappertonparishcouncil.gov.uk/meetings/council-meeting-10-march-2026/
URL:https://sappertonparishcouncil.gov.uk/meetings/council-meeting-10-march-2026/
END:VEVENT
END:VCALENDAR
