BEGIN:VCALENDAR
VERSION:2.0
PRODID:-//Sapperton Parish Council//Meeting Calendar//EN
CALSCALE:GREGORIAN
METHOD:PUBLISH
BEGIN:VEVENT
UID:71954-20260210@sappertonparishcouncil.gov.uk
DTSTAMP:20260420T150613Z
DTSTART;VALUE=DATE:20260210
DTEND;VALUE=DATE:20260211
SUMMARY:Council Meeting 10/02/2026 &#8211\\; Agenda
DESCRIPTION:Full Council Meeting\nView details: https://sappertonparishcouncil.gov.uk/meetings/council-meeting-10-02-2026/
URL:https://sappertonparishcouncil.gov.uk/meetings/council-meeting-10-02-2026/
END:VEVENT
END:VCALENDAR
