BEGIN:VCALENDAR
VERSION:2.0
PRODID:-//Sapperton Parish Council//Meeting Calendar//EN
CALSCALE:GREGORIAN
METHOD:PUBLISH
BEGIN:VEVENT
UID:71928-20251111@sappertonparishcouncil.gov.uk
DTSTAMP:20260420T165023Z
DTSTART;VALUE=DATE:20251111
DTEND;VALUE=DATE:20251112
SUMMARY:Council Meeting 11/11/2025 Agenda &#038\\; Minutes
DESCRIPTION:Full Council Meeting\nView details: https://sappertonparishcouncil.gov.uk/meetings/council-meeting-11-november-2025-2/
URL:https://sappertonparishcouncil.gov.uk/meetings/council-meeting-11-november-2025-2/
END:VEVENT
END:VCALENDAR
