BEGIN:VCALENDAR
VERSION:2.0
PRODID:-//Sapperton Parish Council//Meeting Calendar//EN
CALSCALE:GREGORIAN
METHOD:PUBLISH
BEGIN:VEVENT
UID:71920-20251014@sappertonparishcouncil.gov.uk
DTSTAMP:20260420T181240Z
DTSTART;VALUE=DATE:20251014
DTEND;VALUE=DATE:20251015
SUMMARY:Council Meeting 14/10/2025 Agenda &#038\\; Minutes
DESCRIPTION:Full Council Meeting\nView details: https://sappertonparishcouncil.gov.uk/meetings/council-meeting-14-10-2025/
URL:https://sappertonparishcouncil.gov.uk/meetings/council-meeting-14-10-2025/
END:VEVENT
END:VCALENDAR
