BEGIN:VCALENDAR
VERSION:2.0
PRODID:-//Sapperton Parish Council//Meeting Calendar//EN
CALSCALE:GREGORIAN
METHOD:PUBLISH
BEGIN:VEVENT
UID:71914-20250909@sappertonparishcouncil.gov.uk
DTSTAMP:20260420T181306Z
DTSTART;VALUE=DATE:20250909
DTEND;VALUE=DATE:20250910
SUMMARY:Council Meeting 09/09/2025 Agenda &#038\\; Minutes
DESCRIPTION:Full Council Meeting\nView details: https://sappertonparishcouncil.gov.uk/meetings/council-meeting-09-09-2025/
URL:https://sappertonparishcouncil.gov.uk/meetings/council-meeting-09-09-2025/
END:VEVENT
END:VCALENDAR
