BEGIN:VCALENDAR
VERSION:2.0
PRODID:-//Sapperton Parish Council//Meeting Calendar//EN
CALSCALE:GREGORIAN
METHOD:PUBLISH
BEGIN:VEVENT
UID:71866-20250616@sappertonparishcouncil.gov.uk
DTSTAMP:20260420T182606Z
DTSTART;VALUE=DATE:20250616
DTEND;VALUE=DATE:20250617
SUMMARY:FINANCIAL MEETING FOR AGAR SUBMISSION 16/06/2025 &#8211\\; Agenda &#038\\; Minutes
DESCRIPTION:Full Council Meeting\nView details: https://sappertonparishcouncil.gov.uk/meetings/financial-meeting-for-agar-submission/
URL:https://sappertonparishcouncil.gov.uk/meetings/financial-meeting-for-agar-submission/
END:VEVENT
END:VCALENDAR
