BEGIN:VCALENDAR
VERSION:2.0
PRODID:-//Sapperton Parish Council//Meeting Calendar//EN
CALSCALE:GREGORIAN
METHOD:PUBLISH
BEGIN:VEVENT
UID:71826-20250909@sappertonparishcouncil.gov.uk
DTSTAMP:20260420T163720Z
DTSTART;VALUE=DATE:20250909
DTEND;VALUE=DATE:20250910
SUMMARY:Council Meeting 9 September 2025
DESCRIPTION:Full Council Meeting\nView details: https://sappertonparishcouncil.gov.uk/meetings/council-meeting-9-september-2025/
URL:https://sappertonparishcouncil.gov.uk/meetings/council-meeting-9-september-2025/
END:VEVENT
END:VCALENDAR
