BEGIN:VCALENDAR
VERSION:2.0
PRODID:-//Sapperton Parish Council//Meeting Calendar//EN
CALSCALE:GREGORIAN
METHOD:PUBLISH
BEGIN:VEVENT
UID:71824-20250610@sappertonparishcouncil.gov.uk
DTSTAMP:20260420T181029Z
DTSTART;VALUE=DATE:20250610
DTEND;VALUE=DATE:20250611
SUMMARY:Council Meeting 10 June 2025 Agenda &#038\\; Minutes
DESCRIPTION:Full Council Meeting\nView details: https://sappertonparishcouncil.gov.uk/meetings/council-meeting-10-june-2025/
URL:https://sappertonparishcouncil.gov.uk/meetings/council-meeting-10-june-2025/
END:VEVENT
END:VCALENDAR
