BEGIN:VCALENDAR
VERSION:2.0
PRODID:-//Sapperton Parish Council//Meeting Calendar//EN
CALSCALE:GREGORIAN
METHOD:PUBLISH
BEGIN:VEVENT
UID:71823-20250513@sappertonparishcouncil.gov.uk
DTSTAMP:20260420T200611Z
DTSTART;VALUE=DATE:20250513
DTEND;VALUE=DATE:20250514
SUMMARY:Annual Village Meeting &#038\\; Parish Council Meeting Tuesday 13 May 2025 &#8211\\; Agenda &#038\\; Minutes
DESCRIPTION:Full Council Meeting\nView details: https://sappertonparishcouncil.gov.uk/meetings/council-meeting-13-may-2025/
URL:https://sappertonparishcouncil.gov.uk/meetings/council-meeting-13-may-2025/
END:VEVENT
END:VCALENDAR
