BEGIN:VCALENDAR
VERSION:2.0
PRODID:-//Sapperton Parish Council//Meeting Calendar//EN
CALSCALE:GREGORIAN
METHOD:PUBLISH
BEGIN:VEVENT
UID:71812-20250408@sappertonparishcouncil.gov.uk
DTSTAMP:20260420T194301Z
DTSTART;VALUE=DATE:20250408
DTEND;VALUE=DATE:20250409
SUMMARY:Council Meeting 8 April 2025 &#8211\\; Agenda &#038\\; Minutes
DESCRIPTION:Full Council Meeting\nView details: https://sappertonparishcouncil.gov.uk/meetings/council-meeting-8-april-2025/
URL:https://sappertonparishcouncil.gov.uk/meetings/council-meeting-8-april-2025/
END:VEVENT
END:VCALENDAR
