BEGIN:VCALENDAR
VERSION:2.0
PRODID:-//Sapperton Parish Council//Meeting Calendar//EN
CALSCALE:GREGORIAN
METHOD:PUBLISH
BEGIN:VEVENT
UID:71728-20250114@sappertonparishcouncil.gov.uk
DTSTAMP:20260420T212850Z
DTSTART;VALUE=DATE:20250114
DTEND;VALUE=DATE:20250115
SUMMARY:Council Meeting 14 JANUARY 2025 &#8211\\; Agenda and Minutes
DESCRIPTION:Full Council Meeting\nView details: https://sappertonparishcouncil.gov.uk/meetings/meeting-name-here-6/
URL:https://sappertonparishcouncil.gov.uk/meetings/meeting-name-here-6/
END:VEVENT
END:VCALENDAR
