BEGIN:VCALENDAR
VERSION:2.0
PRODID:-//Sapperton Parish Council//Meeting Calendar//EN
CALSCALE:GREGORIAN
METHOD:PUBLISH
BEGIN:VEVENT
UID:71705-20241210@sappertonparishcouncil.gov.uk
DTSTAMP:20260420T212404Z
DTSTART;VALUE=DATE:20241210
DTEND;VALUE=DATE:20241211
SUMMARY:Council Meeting 10 December 2024 &#8211\\; Agenda and Minutes
DESCRIPTION:Full Council Meeting\nView details: https://sappertonparishcouncil.gov.uk/meetings/meeting-name-here-5/
URL:https://sappertonparishcouncil.gov.uk/meetings/meeting-name-here-5/
END:VEVENT
END:VCALENDAR
