BEGIN:VCALENDAR
VERSION:2.0
PRODID:-//Sapperton Parish Council//Meeting Calendar//EN
CALSCALE:GREGORIAN
METHOD:PUBLISH
BEGIN:VEVENT
UID:71655-20241008@sappertonparishcouncil.gov.uk
DTSTAMP:20260420T212901Z
DTSTART;VALUE=DATE:20241008
DTEND;VALUE=DATE:20241009
SUMMARY:Council Meeting 8 October 2024 &#8211\\; Agenda &#038\\; Minutes
DESCRIPTION:Full Council Meeting\nView details: https://sappertonparishcouncil.gov.uk/meetings/parish-council-meeting-3/
URL:https://sappertonparishcouncil.gov.uk/meetings/parish-council-meeting-3/
END:VEVENT
END:VCALENDAR
