BEGIN:VCALENDAR
VERSION:2.0
PRODID:-//Sapperton Parish Council//Meeting Calendar//EN
CALSCALE:GREGORIAN
METHOD:PUBLISH
BEGIN:VEVENT
UID:71409-20240409@sappertonparishcouncil.gov.uk
DTSTAMP:20260421T002746Z
DTSTART;VALUE=DATE:20240409
DTEND;VALUE=DATE:20240410
SUMMARY:Council Meeting 9 April 2024 &#8211\\; Agenda &#038\\; Minutes
DESCRIPTION:Full Council Meeting\nView details: https://sappertonparishcouncil.gov.uk/meetings/council-meeting-9-april-2024/
URL:https://sappertonparishcouncil.gov.uk/meetings/council-meeting-9-april-2024/
END:VEVENT
END:VCALENDAR
