BEGIN:VCALENDAR
VERSION:2.0
PRODID:-//Sapperton Parish Council//Meeting Calendar//EN
CALSCALE:GREGORIAN
METHOD:PUBLISH
BEGIN:VEVENT
UID:71243-20231212@sappertonparishcouncil.gov.uk
DTSTAMP:20260421T020653Z
DTSTART;VALUE=DATE:20231212
DTEND;VALUE=DATE:20231213
SUMMARY:Council Meeting 12 December 2023
DESCRIPTION:Full Council Meeting\nView details: https://sappertonparishcouncil.gov.uk/meetings/council-meeting-12-december-2023/
URL:https://sappertonparishcouncil.gov.uk/meetings/council-meeting-12-december-2023/
END:VEVENT
END:VCALENDAR
