BEGIN:VCALENDAR
VERSION:2.0
PRODID:-//Sapperton Parish Council//Meeting Calendar//EN
CALSCALE:GREGORIAN
METHOD:PUBLISH
BEGIN:VEVENT
UID:71188-20231114@sappertonparishcouncil.gov.uk
DTSTAMP:20260421T020045Z
DTSTART;VALUE=DATE:20231114
DTEND;VALUE=DATE:20231115
SUMMARY:Council Meeting 14 November 2023
DESCRIPTION:Full Council Meeting\nView details: https://sappertonparishcouncil.gov.uk/meetings/meeting-name-here/
URL:https://sappertonparishcouncil.gov.uk/meetings/meeting-name-here/
END:VEVENT
END:VCALENDAR
