BEGIN:VCALENDAR
VERSION:2.0
PRODID:-//Sapperton Parish Council//Meeting Calendar//EN
CALSCALE:GREGORIAN
METHOD:PUBLISH
BEGIN:VEVENT
UID:71121-20231010@sappertonparishcouncil.gov.uk
DTSTAMP:20260421T020740Z
DTSTART;VALUE=DATE:20231010
DTEND;VALUE=DATE:20231011
SUMMARY:Council Meeting 10 OCTOBER 2023
DESCRIPTION:Full Council Meeting\nView details: https://sappertonparishcouncil.gov.uk/meetings/10-october-2023/
URL:https://sappertonparishcouncil.gov.uk/meetings/10-october-2023/
END:VEVENT
END:VCALENDAR
