BEGIN:VCALENDAR
VERSION:2.0
PRODID:-//Sapperton Parish Council//Meeting Calendar//EN
CALSCALE:GREGORIAN
METHOD:PUBLISH
BEGIN:VEVENT
UID:71105-20230912@sappertonparishcouncil.gov.uk
DTSTAMP:20260421T021146Z
DTSTART;VALUE=DATE:20230912
DTEND;VALUE=DATE:20230913
SUMMARY:Council Meeting &#8211\\; 12 September 2023
DESCRIPTION:Full Council Meeting\nView details: https://sappertonparishcouncil.gov.uk/meetings/council-meeting-12-september-2023/
URL:https://sappertonparishcouncil.gov.uk/meetings/council-meeting-12-september-2023/
END:VEVENT
END:VCALENDAR
