BEGIN:VCALENDAR
VERSION:2.0
PRODID:-//Sapperton Parish Council//Meeting Calendar//EN
CALSCALE:GREGORIAN
METHOD:PUBLISH
BEGIN:VEVENT
UID:71030-20191112@sappertonparishcouncil.gov.uk
DTSTAMP:20260423T182646Z
DTSTART;VALUE=DATE:20191112
DTEND;VALUE=DATE:20191113
SUMMARY:Council Meeting &#8211\\; 12th November 2019
DESCRIPTION:Full Council Meeting\nView details: https://sappertonparishcouncil.gov.uk/meetings/council-meeting-12th-november-2019/
URL:https://sappertonparishcouncil.gov.uk/meetings/council-meeting-12th-november-2019/
END:VEVENT
END:VCALENDAR
