BEGIN:VCALENDAR
VERSION:2.0
PRODID:-//Sapperton Parish Council//Meeting Calendar//EN
CALSCALE:GREGORIAN
METHOD:PUBLISH
BEGIN:VEVENT
UID:71027-20191008@sappertonparishcouncil.gov.uk
DTSTAMP:20260423T182334Z
DTSTART;VALUE=DATE:20191008
DTEND;VALUE=DATE:20191009
SUMMARY:Council Meeting &#8211\\; 8th October 2019
DESCRIPTION:Full Council Meeting\nView details: https://sappertonparishcouncil.gov.uk/meetings/council-meeting-8th-october-2019/
URL:https://sappertonparishcouncil.gov.uk/meetings/council-meeting-8th-october-2019/
END:VEVENT
END:VCALENDAR
