BEGIN:VCALENDAR
VERSION:2.0
PRODID:-//Sapperton Parish Council//Meeting Calendar//EN
CALSCALE:GREGORIAN
METHOD:PUBLISH
BEGIN:VEVENT
UID:71015-20191210@sappertonparishcouncil.gov.uk
DTSTAMP:20260423T182646Z
DTSTART;VALUE=DATE:20191210
DTEND;VALUE=DATE:20191211
SUMMARY:Council Meeting &#8211\\; 10th December 2019
DESCRIPTION:Full Council Meeting\nView details: https://sappertonparishcouncil.gov.uk/meetings/council-meeting-10th-december-2019/
URL:https://sappertonparishcouncil.gov.uk/meetings/council-meeting-10th-december-2019/
END:VEVENT
END:VCALENDAR
