BEGIN:VCALENDAR
VERSION:2.0
PRODID:-//Sapperton Parish Council//Meeting Calendar//EN
CALSCALE:GREGORIAN
METHOD:PUBLISH
BEGIN:VEVENT
UID:71006-20190108@sappertonparishcouncil.gov.uk
DTSTAMP:20260420T164921Z
DTSTART;VALUE=DATE:20190108
DTEND;VALUE=DATE:20190109
SUMMARY:Council Meeting &#8211\\; 8th January 2019
DESCRIPTION:Full Council Meeting\nView details: https://sappertonparishcouncil.gov.uk/meetings/council-meeting-8th-january-2019/
URL:https://sappertonparishcouncil.gov.uk/meetings/council-meeting-8th-january-2019/
END:VEVENT
END:VCALENDAR
