BEGIN:VCALENDAR
VERSION:2.0
PRODID:-//Sapperton Parish Council//Meeting Calendar//EN
CALSCALE:GREGORIAN
METHOD:PUBLISH
BEGIN:VEVENT
UID:71003-20200609@sappertonparishcouncil.gov.uk
DTSTAMP:20260423T171746Z
DTSTART;VALUE=DATE:20200609
DTEND;VALUE=DATE:20200610
SUMMARY:Council Meeting &#8211\\; 9th June 2020
DESCRIPTION:Full Council Meeting\nView details: https://sappertonparishcouncil.gov.uk/meetings/council-meeting-9th-june-2020/
URL:https://sappertonparishcouncil.gov.uk/meetings/council-meeting-9th-june-2020/
END:VEVENT
END:VCALENDAR
