BEGIN:VCALENDAR
VERSION:2.0
PRODID:-//Sapperton Parish Council//Meeting Calendar//EN
CALSCALE:GREGORIAN
METHOD:PUBLISH
BEGIN:VEVENT
UID:71000-20201208@sappertonparishcouncil.gov.uk
DTSTAMP:20260423T143241Z
DTSTART;VALUE=DATE:20201208
DTEND;VALUE=DATE:20201209
SUMMARY:Council Meeting &#8211\\; 8th December 2020
DESCRIPTION:Full Council Meeting\nView details: https://sappertonparishcouncil.gov.uk/meetings/council-meeting-8th-december-2020/
URL:https://sappertonparishcouncil.gov.uk/meetings/council-meeting-8th-december-2020/
END:VEVENT
END:VCALENDAR
