BEGIN:VCALENDAR
VERSION:2.0
PRODID:-//Sapperton Parish Council//Meeting Calendar//EN
CALSCALE:GREGORIAN
METHOD:PUBLISH
BEGIN:VEVENT
UID:70994-20200512@sappertonparishcouncil.gov.uk
DTSTAMP:20260423T165904Z
DTSTART;VALUE=DATE:20200512
DTEND;VALUE=DATE:20200513
SUMMARY:Council Meeting &#8211\\; 12th May 2020
DESCRIPTION:Full Council Meeting\nView details: https://sappertonparishcouncil.gov.uk/meetings/council-meeting-12th-may-2020/
URL:https://sappertonparishcouncil.gov.uk/meetings/council-meeting-12th-may-2020/
END:VEVENT
END:VCALENDAR
