BEGIN:VCALENDAR
VERSION:2.0
PRODID:-//Sapperton Parish Council//Meeting Calendar//EN
CALSCALE:GREGORIAN
METHOD:PUBLISH
BEGIN:VEVENT
UID:70991-20200421@sappertonparishcouncil.gov.uk
DTSTAMP:20260423T170852Z
DTSTART;VALUE=DATE:20200421
DTEND;VALUE=DATE:20200422
SUMMARY:Council Meeting &#8211\\; 21st April 2020
DESCRIPTION:Full Council Meeting\nView details: https://sappertonparishcouncil.gov.uk/meetings/council-meeting-21st-april-2020/
URL:https://sappertonparishcouncil.gov.uk/meetings/council-meeting-21st-april-2020/
END:VEVENT
END:VCALENDAR
