BEGIN:VCALENDAR
VERSION:2.0
PRODID:-//Sapperton Parish Council//Meeting Calendar//EN
CALSCALE:GREGORIAN
METHOD:PUBLISH
BEGIN:VEVENT
UID:70988-20200114@sappertonparishcouncil.gov.uk
DTSTAMP:20260423T182202Z
DTSTART;VALUE=DATE:20200114
DTEND;VALUE=DATE:20200115
SUMMARY:Council Meeting &#8211\\; 14th January 2020
DESCRIPTION:Full Council Meeting\nView details: https://sappertonparishcouncil.gov.uk/meetings/council-meeting-14th-january-2020/
URL:https://sappertonparishcouncil.gov.uk/meetings/council-meeting-14th-january-2020/
END:VEVENT
END:VCALENDAR
