BEGIN:VCALENDAR
VERSION:2.0
PRODID:-//Sapperton Parish Council//Meeting Calendar//EN
CALSCALE:GREGORIAN
METHOD:PUBLISH
BEGIN:VEVENT
UID:70985-20200310@sappertonparishcouncil.gov.uk
DTSTAMP:20260423T171337Z
DTSTART;VALUE=DATE:20200310
DTEND;VALUE=DATE:20200311
SUMMARY:Council Meeting &#8211\\; 10th March 2020
DESCRIPTION:Full Council Meeting\nView details: https://sappertonparishcouncil.gov.uk/meetings/council-meeting-10th-march-2020/
URL:https://sappertonparishcouncil.gov.uk/meetings/council-meeting-10th-march-2020/
END:VEVENT
END:VCALENDAR
