BEGIN:VCALENDAR
VERSION:2.0
PRODID:-//Sapperton Parish Council//Meeting Calendar//EN
CALSCALE:GREGORIAN
METHOD:PUBLISH
BEGIN:VEVENT
UID:70973-20210112@sappertonparishcouncil.gov.uk
DTSTAMP:20260423T142327Z
DTSTART;VALUE=DATE:20210112
DTEND;VALUE=DATE:20210113
SUMMARY:Council Meeting &#8211\\; 12th January 2021
DESCRIPTION:Full Council Meeting\nView details: https://sappertonparishcouncil.gov.uk/meetings/council-meeting-12th-january-2021/
URL:https://sappertonparishcouncil.gov.uk/meetings/council-meeting-12th-january-2021/
END:VEVENT
END:VCALENDAR
