BEGIN:VCALENDAR
VERSION:2.0
PRODID:-//Sapperton Parish Council//Meeting Calendar//EN
CALSCALE:GREGORIAN
METHOD:PUBLISH
BEGIN:VEVENT
UID:70970-20210608@sappertonparishcouncil.gov.uk
DTSTAMP:20260423T130858Z
DTSTART;VALUE=DATE:20210608
DTEND;VALUE=DATE:20210609
SUMMARY:Council Meeting &#8211\\; 8th June 2021
DESCRIPTION:Full Council Meeting\nView details: https://sappertonparishcouncil.gov.uk/meetings/council-meeting-8th-june-2021/
URL:https://sappertonparishcouncil.gov.uk/meetings/council-meeting-8th-june-2021/
END:VEVENT
END:VCALENDAR
