BEGIN:VCALENDAR
VERSION:2.0
PRODID:-//Sapperton Parish Council//Meeting Calendar//EN
CALSCALE:GREGORIAN
METHOD:PUBLISH
BEGIN:VEVENT
UID:70967-20210713@sappertonparishcouncil.gov.uk
DTSTAMP:20260423T130415Z
DTSTART;VALUE=DATE:20210713
DTEND;VALUE=DATE:20210714
SUMMARY:Council Meeting &#8211\\; 13th July 2021
DESCRIPTION:Full Council Meeting\nView details: https://sappertonparishcouncil.gov.uk/meetings/council-meeting-13th-july-2021/
URL:https://sappertonparishcouncil.gov.uk/meetings/council-meeting-13th-july-2021/
END:VEVENT
END:VCALENDAR
