BEGIN:VCALENDAR
VERSION:2.0
PRODID:-//Sapperton Parish Council//Meeting Calendar//EN
CALSCALE:GREGORIAN
METHOD:PUBLISH
BEGIN:VEVENT
UID:70949-20210309@sappertonparishcouncil.gov.uk
DTSTAMP:20260423T142702Z
DTSTART;VALUE=DATE:20210309
DTEND;VALUE=DATE:20210310
SUMMARY:Council Meeting &#8211\\; 9th March 2021
DESCRIPTION:Full Council Meeting\nView details: https://sappertonparishcouncil.gov.uk/meetings/council-meeting-9th-march-2021/
URL:https://sappertonparishcouncil.gov.uk/meetings/council-meeting-9th-march-2021/
END:VEVENT
END:VCALENDAR
