BEGIN:VCALENDAR
VERSION:2.0
PRODID:-//Sapperton Parish Council//Meeting Calendar//EN
CALSCALE:GREGORIAN
METHOD:PUBLISH
BEGIN:VEVENT
UID:70941-20220922@sappertonparishcouncil.gov.uk
DTSTAMP:20260421T071634Z
DTSTART;VALUE=DATE:20220922
DTEND;VALUE=DATE:20220923
SUMMARY:Council Meeting &#8211\\; 22nd September 2022
DESCRIPTION:Full Council Meeting\nView details: https://sappertonparishcouncil.gov.uk/meetings/council-meeting-22nd-september-2022/
URL:https://sappertonparishcouncil.gov.uk/meetings/council-meeting-22nd-september-2022/
END:VEVENT
END:VCALENDAR
