BEGIN:VCALENDAR
VERSION:2.0
PRODID:-//Sapperton Parish Council//Meeting Calendar//EN
CALSCALE:GREGORIAN
METHOD:PUBLISH
BEGIN:VEVENT
UID:70938-20220308@sappertonparishcouncil.gov.uk
DTSTAMP:20260423T124712Z
DTSTART;VALUE=DATE:20220308
DTEND;VALUE=DATE:20220309
SUMMARY:Council Meeting &#8211\\; 8th March 2022
DESCRIPTION:Full Council Meeting\nView details: https://sappertonparishcouncil.gov.uk/meetings/council-meeting-8th-march-2022/
URL:https://sappertonparishcouncil.gov.uk/meetings/council-meeting-8th-march-2022/
END:VEVENT
END:VCALENDAR
