BEGIN:VCALENDAR
VERSION:2.0
PRODID:-//Sapperton Parish Council//Meeting Calendar//EN
CALSCALE:GREGORIAN
METHOD:PUBLISH
BEGIN:VEVENT
UID:70933-20221108@sappertonparishcouncil.gov.uk
DTSTAMP:20260421T071635Z
DTSTART;VALUE=DATE:20221108
DTEND;VALUE=DATE:20221109
SUMMARY:Council Meeting &#8211\\; 8th November 2022
DESCRIPTION:Full Council Meeting\nView details: https://sappertonparishcouncil.gov.uk/meetings/council-meeting-8th-november-2022/
URL:https://sappertonparishcouncil.gov.uk/meetings/council-meeting-8th-november-2022/
END:VEVENT
END:VCALENDAR
