BEGIN:VCALENDAR
VERSION:2.0
PRODID:-//Sapperton Parish Council//Meeting Calendar//EN
CALSCALE:GREGORIAN
METHOD:PUBLISH
BEGIN:VEVENT
UID:70930-20220412@sappertonparishcouncil.gov.uk
DTSTAMP:20260423T085908Z
DTSTART;VALUE=DATE:20220412
DTEND;VALUE=DATE:20220413
SUMMARY:Council Meeting &#8211\\; 12th April 2022
DESCRIPTION:Full Council Meeting\nView details: https://sappertonparishcouncil.gov.uk/meetings/council-meeting-12th-april-2022/
URL:https://sappertonparishcouncil.gov.uk/meetings/council-meeting-12th-april-2022/
END:VEVENT
END:VCALENDAR
