BEGIN:VCALENDAR
VERSION:2.0
PRODID:-//Sapperton Parish Council//Meeting Calendar//EN
CALSCALE:GREGORIAN
METHOD:PUBLISH
BEGIN:VEVENT
UID:70924-20221011@sappertonparishcouncil.gov.uk
DTSTAMP:20260421T071012Z
DTSTART;VALUE=DATE:20221011
DTEND;VALUE=DATE:20221012
SUMMARY:Council Meeting &#8211\\; 11th October 2022
DESCRIPTION:Full Council Meeting\nView details: https://sappertonparishcouncil.gov.uk/meetings/council-meeting-11th-october-2022/
URL:https://sappertonparishcouncil.gov.uk/meetings/council-meeting-11th-october-2022/
END:VEVENT
END:VCALENDAR
