BEGIN:VCALENDAR
VERSION:2.0
PRODID:-//Sapperton Parish Council//Meeting Calendar//EN
CALSCALE:GREGORIAN
METHOD:PUBLISH
BEGIN:VEVENT
UID:70921-20221215@sappertonparishcouncil.gov.uk
DTSTAMP:20260421T071719Z
DTSTART;VALUE=DATE:20221215
DTEND;VALUE=DATE:20221216
SUMMARY:Council Meeting &#8211\\; 15th December 2022
DESCRIPTION:Full Council Meeting\nView details: https://sappertonparishcouncil.gov.uk/meetings/council-meeting-15th-december-2022/
URL:https://sappertonparishcouncil.gov.uk/meetings/council-meeting-15th-december-2022/
END:VEVENT
END:VCALENDAR
