BEGIN:VCALENDAR
VERSION:2.0
PRODID:-//Sapperton Parish Council//Meeting Calendar//EN
CALSCALE:GREGORIAN
METHOD:PUBLISH
BEGIN:VEVENT
UID:70912-20220510@sappertonparishcouncil.gov.uk
DTSTAMP:20260423T091356Z
DTSTART;VALUE=DATE:20220510
DTEND;VALUE=DATE:20220511
SUMMARY:Council Meeting &#8211\\; 10th May 2022
DESCRIPTION:Full Council Meeting\nView details: https://sappertonparishcouncil.gov.uk/meetings/council-meeting-10th-may-2022/
URL:https://sappertonparishcouncil.gov.uk/meetings/council-meeting-10th-may-2022/
END:VEVENT
END:VCALENDAR
