BEGIN:VCALENDAR
VERSION:2.0
PRODID:-//Sapperton Parish Council//Meeting Calendar//EN
CALSCALE:GREGORIAN
METHOD:PUBLISH
BEGIN:VEVENT
UID:70907-20220111@sappertonparishcouncil.gov.uk
DTSTAMP:20260423T090410Z
DTSTART;VALUE=DATE:20220111
DTEND;VALUE=DATE:20220112
SUMMARY:Council Meeting &#8211\\; 11th January 2022
DESCRIPTION:Full Council Meeting\nView details: https://sappertonparishcouncil.gov.uk/meetings/council-meeting-11th-january-2022/
URL:https://sappertonparishcouncil.gov.uk/meetings/council-meeting-11th-january-2022/
END:VEVENT
END:VCALENDAR
