BEGIN:VCALENDAR
VERSION:2.0
PRODID:-//Sapperton Parish Council//Meeting Calendar//EN
CALSCALE:GREGORIAN
METHOD:PUBLISH
BEGIN:VEVENT
UID:70905-20230101@sappertonparishcouncil.gov.uk
DTSTAMP:20260421T052305Z
DTSTART;VALUE=DATE:20230101
DTEND;VALUE=DATE:20230102
SUMMARY:Council Meeting Dates &#8211\\; 2023
DESCRIPTION:Full Council Meeting\nView details: https://sappertonparishcouncil.gov.uk/meetings/council-meetings-2023/
URL:https://sappertonparishcouncil.gov.uk/meetings/council-meetings-2023/
END:VEVENT
END:VCALENDAR
