BEGIN:VCALENDAR
VERSION:2.0
PRODID:-//Sapperton Parish Council//Meeting Calendar//EN
CALSCALE:GREGORIAN
METHOD:PUBLISH
BEGIN:VEVENT
UID:70898-20230509@sappertonparishcouncil.gov.uk
DTSTAMP:20260421T035126Z
DTSTART;VALUE=DATE:20230509
DTEND;VALUE=DATE:20230510
SUMMARY:Council Meeting &#8211\\; 9th May 2023
DESCRIPTION:Full Council Meeting\nView details: https://sappertonparishcouncil.gov.uk/meetings/council-meeting-9th-may-2023/
URL:https://sappertonparishcouncil.gov.uk/meetings/council-meeting-9th-may-2023/
END:VEVENT
END:VCALENDAR
