BEGIN:VCALENDAR
VERSION:2.0
PRODID:-//Sapperton Parish Council//Meeting Calendar//EN
CALSCALE:GREGORIAN
METHOD:PUBLISH
BEGIN:VEVENT
UID:70895-20230613@sappertonparishcouncil.gov.uk
DTSTAMP:20260421T034724Z
DTSTART;VALUE=DATE:20230613
DTEND;VALUE=DATE:20230614
SUMMARY:Council Meeting &#8211\\; 13th June 2023
DESCRIPTION:Full Council Meeting\nView details: https://sappertonparishcouncil.gov.uk/meetings/council-meeting-13th-june-2023/
URL:https://sappertonparishcouncil.gov.uk/meetings/council-meeting-13th-june-2023/
END:VEVENT
END:VCALENDAR
