BEGIN:VCALENDAR
VERSION:2.0
PRODID:-//Sapperton Parish Council//Meeting Calendar//EN
CALSCALE:GREGORIAN
METHOD:PUBLISH
BEGIN:VEVENT
UID:70883-20230711@sappertonparishcouncil.gov.uk
DTSTAMP:20260421T035055Z
DTSTART;VALUE=DATE:20230711
DTEND;VALUE=DATE:20230712
SUMMARY:Council Meeting &#8211\\; 11th July 2023
DESCRIPTION:Full Council Meeting\nView details: https://sappertonparishcouncil.gov.uk/meetings/council-meeting-11th-july-2023/
URL:https://sappertonparishcouncil.gov.uk/meetings/council-meeting-11th-july-2023/
END:VEVENT
END:VCALENDAR
